BEGIN:VCALENDAR
VERSION:2.0
PRODID:-//Espacio de Creación Joven - ECPv4.2.7//NONSGML v1.0//EN
CALSCALE:GREGORIAN
METHOD:PUBLISH
X-WR-CALNAME:Espacio de Creación Joven
X-ORIGINAL-URL:http://espaciojoven.marchamalo.es
X-WR-CALDESC:Events for Espacio de Creación Joven
BEGIN:VEVENT
DTSTART;TZID=UTC+0:20181205T050000
DTEND;TZID=UTC+0:20181205T190000
DTSTAMP:20260422T214952
CREATED:20181121T143900
LAST-MODIFIED:20181121T143900
UID:1401-1543986000-1544036400@espaciojoven.marchamalo.es
SUMMARY:Tardes de deberes
DESCRIPTION:En esta actividad brindaremos ayuda y apoyo a los chicos para que puedan conseguir unos mejores resultados en la escuela o instituto. Los jóvenes traerán deberes y expondrán dudas\, realizarán trabajos individuales o grupales\, les ayudaremos a buscar información\, sintetizar ideas\, y también enseñaremos a realizar resúmenes y esquemas para estudiar exámenes.
URL:http://espaciojoven.marchamalo.es/event/tardes-de-deberes-60/
CATEGORIES:EVENTOS
ATTACH;FMTTYPE=image/jpeg:http://espaciojoven.marchamalo.es/wp-content/uploads/2018/09/En-clase-adolescentes3.jpg
END:VEVENT
END:VCALENDAR