BEGIN:VCALENDAR
VERSION:2.0
PRODID:-//Espacio de Creación Joven - ECPv4.2.7//NONSGML v1.0//EN
CALSCALE:GREGORIAN
METHOD:PUBLISH
X-WR-CALNAME:Espacio de Creación Joven
X-ORIGINAL-URL:http://espaciojoven.marchamalo.es
X-WR-CALDESC:Events for Espacio de Creación Joven
BEGIN:VEVENT
DTSTART;TZID=UTC+0:20181020T053000
DTEND;TZID=UTC+0:20181020T220000
DTSTAMP:20260421T040430
CREATED:20180919T150531
LAST-MODIFIED:20180919T150531
UID:1322-1540013400-1540072800@espaciojoven.marchamalo.es
SUMMARY:Tardes Dulces: Galletas de chocolate "nido de arañas"
DESCRIPTION:OBJETIVOS:\n- Potenciar el interés por la cocina.\n- Ejecutar unas deliciosas galletas de chocolate para Halloween de forma lúdica\, divertida y entretenida.\n- Asimilar correctamente la receta.\n- Aprender a trabajar en grupo\, colaborando y cooperando con los demás miembros del grupo.\n\nDESCRIPCIÓN DE LA ACTIVIDAD: primero la animadora explicará la receta. A continuación realizaremos grupos (estos serán llamados por turnos y número de inscripción). Cada grupo dispondrá en su mesa de todos los ingredientes y utensilios de cocina. También contarán con una receta\, la cual deberán seguir. Una vez terminada\, podrán degustar sus deliciosas galletas de chocolate.\n\nTEMPORALIZACIÓN: la actividad dará comienzo a las 17.30 h y finalizará a las 22.00 h.\n\nEDAD DE LOS PARTICIPANTES: de 12 años en adelante.
URL:http://espaciojoven.marchamalo.es/event/tardes-dulces-galletas-de-chocolate-nido-de-aranas/
CATEGORIES:EVENTOS
ATTACH;FMTTYPE=image/jpeg:http://espaciojoven.marchamalo.es/wp-content/uploads/2018/09/TARDES-DULCES-GALLETAS-NIDO-DE-ARAÑA..jpg
END:VEVENT
END:VCALENDAR