BEGIN:VCALENDAR
VERSION:2.0
PRODID:-//Espacio de Creación Joven - ECPv4.2.7//NONSGML v1.0//EN
CALSCALE:GREGORIAN
METHOD:PUBLISH
X-WR-CALNAME:Espacio de Creación Joven
X-ORIGINAL-URL:http://espaciojoven.marchamalo.es
X-WR-CALDESC:Events for Espacio de Creación Joven
BEGIN:VEVENT
DTSTART;TZID=UTC+0:20180519T053000
DTEND;TZID=UTC+0:20180519T210000
DTSTAMP:20260420T055428
CREATED:20180430T181532
LAST-MODIFIED:20180430T181532
UID:1250-1526707800-1526763600@espaciojoven.marchamalo.es
SUMMARY:Tardes dulces "Smoothie de plátano y chocolate"
DESCRIPTION:OBJETIVOS:\n- Potenciar el interés por la cocina.\n- Ejecutar unas deliciosos smothies de forma lúdica\, divertida y entretenida.\n- Aprender a realizar correctamente una receta.\n- Aprender a trabajar en grupo\, colaborando y cooperando con los demás miembros del grupo.\n\nDESCRIPCIÓN DE LA ACTIVIDAD: primero la animadora explicará la receta. A continuación realizaremos grupos (estos serán llamados por turnos y número de inscripción). Cada grupo dispondrá en su mesa de todos los ingredientes y utensilios de cocina. También contarán con una receta\, la cual deberán seguir. Una vez terminada\, podrán degustar sus fresquitos smothies.\n\nTEMPORALIZACIÓN: La actividad dará comienzo a las 17.30 h y finalizará a las 22.00 h.
URL:http://espaciojoven.marchamalo.es/event/tardes-dulces-smoothie-de-platano-y-chocolate/
CATEGORIES:EVENTOS
ATTACH;FMTTYPE=image/jpeg:http://espaciojoven.marchamalo.es/wp-content/uploads/2018/04/SMOOTHIE-DE-PLATANO-Y-CHOCOLATE.jpg
END:VEVENT
END:VCALENDAR