BEGIN:VCALENDAR
VERSION:2.0
PRODID:-//Espacio de Creación Joven - ECPv4.2.7//NONSGML v1.0//EN
CALSCALE:GREGORIAN
METHOD:PUBLISH
X-WR-CALNAME:Espacio de Creación Joven
X-ORIGINAL-URL:http://espaciojoven.marchamalo.es
X-WR-CALDESC:Events for Espacio de Creación Joven
BEGIN:VEVENT
DTSTART;TZID=UTC+0:20180127T053000
DTEND;TZID=UTC+0:20180127T220000
DTSTAMP:20260423T134219
CREATED:20171221T194939
LAST-MODIFIED:20171221T194939
UID:1026-1517031000-1517090400@espaciojoven.marchamalo.es
SUMMARY:Tardes saladas "Empanadillas de atún"
DESCRIPTION:OBJETIVOS:\n- Potenciar el interés por la cocina.\n- Ejecutar unas deliciosas empanadillas de forma lúdica\, divertida y entretenida.\n- Aprender a realizar correctamente una receta.\n- Aprender a trabajar en grupo\, colaborando y cooperando con los demás miembros del grupo.\n\nDESCRIPCIÓN DE LA ACTIVIDAD: primero la animadora explicará la receta. A continuación realizaremos grupos (estos serán llamados por turnos y número de inscripción). Cada grupo dispondrá en su mesa de todos los ingredientes y utensilios de cocina. También contarán con una receta\, la cual deberán seguir. Una vez terminada\, podrán degustar sus deliciosas empanadillas.\n\nTEMPORALIZACIÓN: La actividad dará comienzo a las 17.30 h y finalizará a las 22.00 h.
URL:http://espaciojoven.marchamalo.es/event/tardes-saladas-empanadillas-de-atun/
CATEGORIES:EVENTOS
ATTACH;FMTTYPE=image/jpeg:http://espaciojoven.marchamalo.es/wp-content/uploads/2017/12/Tardes-saladas-Empanadillas-de-Atún.jpg
END:VEVENT
END:VCALENDAR