BEGIN:VCALENDAR
VERSION:2.0
PRODID:-//Espacio de Creación Joven - ECPv4.2.7//NONSGML v1.0//EN
CALSCALE:GREGORIAN
METHOD:PUBLISH
X-WR-CALNAME:Espacio de Creación Joven
X-ORIGINAL-URL:http://espaciojoven.marchamalo.es
X-WR-CALDESC:Events for Espacio de Creación Joven
BEGIN:VEVENT
DTSTART;TZID=UTC+0:20180302T043000
DTEND;TZID=UTC+0:20180302T220000
DTSTAMP:20260422T094029
CREATED:20180225T193605
LAST-MODIFIED:20180225T193701
UID:1096-1519965000-1520028000@espaciojoven.marchamalo.es
SUMMARY:Tarjetas Mágicas
DESCRIPTION:OBJETIVOS:\n- Aprender a ejecutar una tarjeta de regalo original.\n- Mejorar la técnica de dibujo.\n- Usar la magia como herramienta lúdica.\n- Potenciar la creatividad e imaginación.\n- Disfrutar de la actividad y pasar un rato divertido.\n\nDESCRIPCIÓN DE LA ACTIVIDAD: primero dibujaremos dos cuadrados y dos rectángulos y los recortaremos\, también necesitaremos recortar un cuadrado de acetato o plástico transparente. En uno de los cuadrados realizaremos un marco\, dejando la parte interna recortada. Seguidamente colocaremos y pegaremos este sobre uno de los rectángulos. A continuación escribiremos o dibujaremos un mensaje en la parte de dentro y colocaremos el plástico transparente y repasaremos con rotuladores el diseño. Finalmente los pegamos entre si y por último introduciremos la tarjeta con el acetato por delante y la cartulina por detrás del marco comprobar que nuestra tarjeta es mágica.\n\nTEMPORALIZACIÓN: La actividad dará comienzo a las 16.30 h y finalizará a las 22.00 h.\n\nEDAD DE LOS PARTICIPANTES: primer y segundo grupo\, niños de 6 a 11 años y sucesivos grupos\, jóvenes a partir de 12 años.
URL:http://espaciojoven.marchamalo.es/event/tarjetas-magicas/
CATEGORIES:EVENTOS
ATTACH;FMTTYPE=image/jpeg:http://espaciojoven.marchamalo.es/wp-content/uploads/2018/02/TARJETA-MÁGICA-1.jpg
END:VEVENT
END:VCALENDAR