BEGIN:VCALENDAR
VERSION:2.0
PRODID:-//Espacio de Creación Joven - ECPv4.2.7//NONSGML v1.0//EN
CALSCALE:GREGORIAN
METHOD:PUBLISH
X-WR-CALNAME:Espacio de Creación Joven
X-ORIGINAL-URL:http://espaciojoven.marchamalo.es
X-WR-CALDESC:Events for Espacio de Creación Joven
BEGIN:VEVENT
DTSTART;TZID=UTC+0:20180324T100000
DTEND;TZID=UTC+0:20180324T140000
DTSTAMP:20260421T150741
CREATED:20180303T204345
LAST-MODIFIED:20180304T161203
UID:1142-1521885600-1521900000@espaciojoven.marchamalo.es
SUMMARY:Torneo de Magic y Torneo de Crokinole
DESCRIPTION:-Inscripciones en el propio Espacio Joven hasta agotar plazas (16 plazas en total).\n\n- Hora de inicio 10:00 h.\n\n
URL:http://espaciojoven.marchamalo.es/event/torneo-de-magic/
CATEGORIES:EVENTOS
ATTACH;FMTTYPE=image/jpeg:http://espaciojoven.marchamalo.es/wp-content/uploads/2018/03/magicbacksleeve.jpg
END:VEVENT
END:VCALENDAR