BEGIN:VCALENDAR
VERSION:2.0
PRODID:-//Espacio de Creación Joven - ECPv4.2.7//NONSGML v1.0//EN
CALSCALE:GREGORIAN
METHOD:PUBLISH
X-WR-CALNAME:Espacio de Creación Joven
X-ORIGINAL-URL:http://espaciojoven.marchamalo.es
X-WR-CALDESC:Events for Espacio de Creación Joven
BEGIN:VEVENT
DTSTART;TZID=UTC+0:20180304T050000
DTEND;TZID=UTC+0:20180304T183000
DTSTAMP:20260422T221415
CREATED:20180225T194033
LAST-MODIFIED:20180225T194033
UID:1102-1520139600-1520188200@espaciojoven.marchamalo.es
SUMMARY:Tu mejor amigo
DESCRIPTION:
URL:http://espaciojoven.marchamalo.es/event/tu-mejor-amigo/
CATEGORIES:EVENTOS
ATTACH;FMTTYPE=image/jpeg:http://espaciojoven.marchamalo.es/wp-content/uploads/2018/02/Tu-mejor-amigo.jpg
END:VEVENT
END:VCALENDAR