BEGIN:VCALENDAR
VERSION:2.0
PRODID:-//Espacio de Creación Joven - ECPv4.2.7//NONSGML v1.0//EN
CALSCALE:GREGORIAN
METHOD:PUBLISH
X-WR-CALNAME:Espacio de Creación Joven
X-ORIGINAL-URL:http://espaciojoven.marchamalo.es
X-WR-CALDESC:Events for Espacio de Creación Joven
BEGIN:VEVENT
DTSTART;TZID=UTC+0:20181110T053000
DTEND;TZID=UTC+0:20181110T210000
DTSTAMP:20260422T102019
CREATED:20181024T144258
LAST-MODIFIED:20181024T144258
UID:1363-1541827800-1541883600@espaciojoven.marchamalo.es
SUMMARY:V Campeonato de Dardos por parejas
DESCRIPTION:OBJETIVOS:\n- Fomentar el juego en los jóvenes como deporte recreativo.\n- Desarrollar cualidades de rapidez\, habilidad manual y movilidad.\n- Pasar un rato entre amigos\, disfrutando del deporte.\n- Participar no para ganar\, sino para disfrutar.\n\nDESCRIPCIÓN DE LA ACTIVIDAD: el juego de competición será el “cricket”. Por parejas se lanzarán tres dardos alternativamente a la diana hasta completar los puntos necesarios o sectores determinados de la diana. El mejor de cada ronda se irá seleccionando y pasará a la siguiente fase. En la última ronda se premiará a la mejor pareja\, habiendo conseguido los sectores necesarios de la diana y los puntos correspondientes.\n\nTEMPORALIZACIÓN: la actividad dará comienzo a las 17.30 h y finalizará a las 21.00 h.\n\nEDAD DE LOS PARTICIPANTES: de 12 años en adelante.
URL:http://espaciojoven.marchamalo.es/event/v-campeonato-de-dardos-por-parejas/
CATEGORIES:EVENTOS
ATTACH;FMTTYPE=image/jpeg:http://espaciojoven.marchamalo.es/wp-content/uploads/2018/10/V-TORNEO-DE-DARDOS-POR-PAREJAS.jpg
END:VEVENT
END:VCALENDAR