BEGIN:VCALENDAR
VERSION:2.0
PRODID:-//Espacio de Creación Joven - ECPv4.2.7//NONSGML v1.0//EN
CALSCALE:GREGORIAN
METHOD:PUBLISH
X-WR-CALNAME:Espacio de Creación Joven
X-ORIGINAL-URL:http://espaciojoven.marchamalo.es
X-WR-CALDESC:Events for Espacio de Creación Joven
BEGIN:VEVENT
DTSTART;TZID=UTC+0:20260124T053000
DTEND;TZID=UTC+0:20260124T213000
DTSTAMP:20260424T161644
CREATED:20251221T195632
LAST-MODIFIED:20251221T195707
UID:3770-1769232600-1769290200@espaciojoven.marchamalo.es
SUMMARY:XI Torneo Billar Americano
DESCRIPTION:\n\nMÁS INFO:\n\nTodas las actividades son gratuitas.\n\nActividad para jóvenes a partir de 12 años con carné de usuario de centro.\n\nInscripciones en el Espacio Joven o mandando un correo electrónico a espacio.joven@marchamalo.com.\n\nPuedes apuntarte a partir del miércoles 14 de enero.\n\nPlazas limitadas y por orden de inscripción.\n\nPremio para los ganad@r.
URL:http://espaciojoven.marchamalo.es/event/xi-torneo-billar-americano/
CATEGORIES:EVENTOS
END:VEVENT
END:VCALENDAR