BEGIN:VCALENDAR
VERSION:2.0
PRODID:-//Espacio de Creación Joven - ECPv4.2.7//NONSGML v1.0//EN
CALSCALE:GREGORIAN
METHOD:PUBLISH
X-WR-CALNAME:Espacio de Creación Joven
X-ORIGINAL-URL:http://espaciojoven.marchamalo.es
X-WR-CALDESC:Events for Espacio de Creación Joven
BEGIN:VEVENT
DTSTART;TZID=UTC+0:20260330T053000
DTEND;TZID=UTC+0:20260330T203000
DTSTAMP:20260424T031810
CREATED:20260318T161405
LAST-MODIFIED:20260318T162543
UID:3900-1774848600-1774902600@espaciojoven.marchamalo.es
SUMMARY:Semana de la Juventud "I Torneo Super Smash Bros"
DESCRIPTION:\n\nBASES TORNEO SUPER SMASH BROS
URL:http://espaciojoven.marchamalo.es/event/semana-de-la-juventud-i-torneo-super-smash-bros/
CATEGORIES:EVENTOS
END:VEVENT
BEGIN:VEVENT
DTSTART;TZID=UTC+0:20260330T090000
DTEND;TZID=UTC+0:20260330T220000
DTSTAMP:20260424T031810
CREATED:20260319T202320
LAST-MODIFIED:20260319T202718
UID:3933-1774861200-1774908000@espaciojoven.marchamalo.es
SUMMARY:Torneo Futsal
DESCRIPTION:\n\nInscripciones en el Espacio Joven\n\nOrganiza la peña "B12"
URL:http://espaciojoven.marchamalo.es/event/3933/
CATEGORIES:EVENTOS
END:VEVENT
BEGIN:VEVENT
DTSTART;TZID=UTC+0:20260331T053000
DTEND;TZID=UTC+0:20260331T203000
DTSTAMP:20260424T031810
CREATED:20260318T161918
LAST-MODIFIED:20260318T162318
UID:3904-1774935000-1774989000@espaciojoven.marchamalo.es
SUMMARY:Semana de la Juventud "I Torneo FIFA `26 PS5"
DESCRIPTION:\n\nBASES TORNEO FIFA ´26 PS5
URL:http://espaciojoven.marchamalo.es/event/semana-de-la-juventud-i-torneo-fifa-26-ps5/
CATEGORIES:EVENTOS
END:VEVENT
BEGIN:VEVENT
DTSTART;TZID=UTC+0:20260331T090000
DTEND;TZID=UTC+0:20260331T220000
DTSTAMP:20260424T031810
CREATED:20260319T202532
LAST-MODIFIED:20260319T202532
UID:3937-1774947600-1774994400@espaciojoven.marchamalo.es
SUMMARY:Torneo Futsal
DESCRIPTION:\n\nInscripciones en el Espacio Joven\n\nOrganiza la peña «B12»
URL:http://espaciojoven.marchamalo.es/event/torneo-futsal/
CATEGORIES:EVENTOS
END:VEVENT
BEGIN:VEVENT
DTSTART;TZID=UTC+0:20260401T053000
DTEND;TZID=UTC+0:20260401T193000
DTSTAMP:20260424T031810
CREATED:20260318T163035
LAST-MODIFIED:20260331T202422
UID:3914-1775021400-1775071800@espaciojoven.marchamalo.es
SUMMARY:Semana de la Juventud "I Torneo Happy Little Dinosaurs"
DESCRIPTION:\n\nMÁS INFO:\n\nTodas las actividades son gratuitas.\n\nActividad para jóvenes a partir de 12 años con carné de usuario de centro.\n\nInscripciones en el Espacio Joven o mandando un correo electrónico a espacio.joven@marchamalo.com.\n\nPuedes apuntarte a partir del miércoles 18 de marzo.\n\nPlazas limitadas y por orden de inscripción.\n\nPremio para los ganad@r.
URL:http://espaciojoven.marchamalo.es/event/semana-de-la-juventud-i-torneo-happy-little-dinosaurs/
CATEGORIES:EVENTOS
END:VEVENT
BEGIN:VEVENT
DTSTART;TZID=UTC+0:20260401T073000
DTEND;TZID=UTC+0:20260401T213000
DTSTAMP:20260424T031810
CREATED:20260318T194603
LAST-MODIFIED:20260318T194603
UID:3923-1775028600-1775079000@espaciojoven.marchamalo.es
SUMMARY:Semana de la Juventud "Merienda en el Espacio Joven" Peña el Strohpicio
DESCRIPTION:
URL:http://espaciojoven.marchamalo.es/event/semana-de-la-juventud-merienda-en-el-espacio-joven-pena-el-strohpicio/
CATEGORIES:EVENTOS
END:VEVENT
BEGIN:VEVENT
DTSTART;TZID=UTC+0:20260401T073000
DTEND;TZID=UTC+0:20260401T213000
DTSTAMP:20260424T031810
CREATED:20260318T195723
LAST-MODIFIED:20260331T144856
UID:3926-1775028600-1775079000@espaciojoven.marchamalo.es
SUMMARY:Semana de la Juventud "Concierto de Bandas del Espacio Joven"
DESCRIPTION:\n\nDisfruta del cierre de la Semana de la Juventud con música en directo\, de la mano de algunas de las bandas locales del Espacio Joven. Conoce su música\, baila\, canta y diviértete!!!\n\nHorario: 19:30-22:00.\n\nEntrada libre.\n\nAdemás\, gozaremos de una deliciosa merienda\, preparada por la "Peña El Strohpicio"
URL:http://espaciojoven.marchamalo.es/event/semana-de-la-juventud-concierto-de-bandas-del-espacio-joven/
CATEGORIES:EVENTOS
END:VEVENT
BEGIN:VEVENT
DTSTART;TZID=UTC+0:20260401T100000
DTEND;TZID=UTC+0:20260401T140000
DTSTAMP:20260424T031810
CREATED:20260319T202653
LAST-MODIFIED:20260319T202653
UID:3939-1775037600-1775052000@espaciojoven.marchamalo.es
SUMMARY:Finales Torneo Futsal
DESCRIPTION:\n\nInscripciones en el Espacio Joven\n\nOrganiza la peña «B12»
URL:http://espaciojoven.marchamalo.es/event/finales-torneo-futsal/
CATEGORIES:EVENTOS
END:VEVENT
BEGIN:VEVENT
DTSTART;TZID=UTC+0:20260410T053000
DTEND;TZID=UTC+0:20260410T213000
DTSTAMP:20260424T031810
CREATED:20260325T141321
LAST-MODIFIED:20260325T141321
UID:3942-1775799000-1775856600@espaciojoven.marchamalo.es
SUMMARY:Taller de Manualidades "Porta-Velas"
DESCRIPTION:\n\nMÁS INFO:\n\nTodas las actividades son gratuitas.\n\nActividad para jóvenes a partir de 12 años con carné de usuario de centro.\n\nInscripciones en el Espacio Joven o mandando un correo electrónico a espacio.joven@marchamalo.com.\n\nPuedes apuntarte a partir del miércoles 25 de marzo.\n\nPlazas limitadas y por orden de inscripción.
URL:http://espaciojoven.marchamalo.es/event/taller-de-manualidades-porta-velas/
CATEGORIES:EVENTOS
END:VEVENT
BEGIN:VEVENT
DTSTART;TZID=UTC+0:20260411T053000
DTEND;TZID=UTC+0:20260411T203000
DTSTAMP:20260424T031810
CREATED:20260325T141937
LAST-MODIFIED:20260325T141937
UID:3951-1775885400-1775939400@espaciojoven.marchamalo.es
SUMMARY:Ludoteca de Juegos de Mesa
DESCRIPTION:\n\nMÁS INFO:\n\nTodas las actividades son gratuitas.\n\nActividad para jóvenes a partir de 12 años con carné de usuario de centro.\n\nInscripciones en el Espacio Joven o mandando un correo electrónico a espacio.joven@marchamalo.com.\n\nPuedes apuntarte a partir del viernes miércoles 25 de marzo.\n\nPlazas limitadas y por orden de inscripción.
URL:http://espaciojoven.marchamalo.es/event/ludoteca-de-juegos-de-mesa-29/
CATEGORIES:EVENTOS
END:VEVENT
BEGIN:VEVENT
DTSTART;TZID=UTC+0:20260417T053000
DTEND;TZID=UTC+0:20260417T213000
DTSTAMP:20260424T031810
CREATED:20260325T142246
LAST-MODIFIED:20260325T142246
UID:3953-1776403800-1776461400@espaciojoven.marchamalo.es
SUMMARY:Taller de Manualidades "Pendientes de Fimo"
DESCRIPTION:\n\nMÁS INFO:\n\nTodas las actividades son gratuitas.\n\nActividad para jóvenes a partir de 12 años con carné de usuario de centro.\n\nInscripciones en el Espacio Joven o mandando un correo electrónico a espacio.joven@marchamalo.com.\n\nPuedes apuntarte a partir del miércoles 8 de abril.\n\nPlazas limitadas y por orden de inscripción.
URL:http://espaciojoven.marchamalo.es/event/taller-de-manualidades-pendientes-de-fimo/
CATEGORIES:EVENTOS
END:VEVENT
BEGIN:VEVENT
DTSTART;TZID=UTC+0:20260418T053000
DTEND;TZID=UTC+0:20260418T203000
DTSTAMP:20260424T031810
CREATED:20260325T152858
LAST-MODIFIED:20260325T152858
UID:3956-1776490200-1776544200@espaciojoven.marchamalo.es
SUMMARY:XII Torneo de Futbolín
DESCRIPTION:\n\nMÁS INFO:\n\nTodas las actividades son gratuitas.\n\nActividad para jóvenes a partir de 12 años con carné de usuario de centro.\n\nInscripciones en el Espacio Joven o mandando un correo electrónico a espacio.joven@marchamalo.com.\n\nPuedes apuntarte a partir del miércoles 8 de abril.\n\nPlazas limitadas y por orden de inscripción.\n\nPremio para los ganad@r.
URL:http://espaciojoven.marchamalo.es/event/xii-torneo-de-futbolin/
CATEGORIES:EVENTOS
END:VEVENT
BEGIN:VEVENT
DTSTART;TZID=UTC+0:20260424T053000
DTEND;TZID=UTC+0:20260424T213000
DTSTAMP:20260424T031810
CREATED:20260325T155650
LAST-MODIFIED:20260325T155650
UID:3960-1777008600-1777066200@espaciojoven.marchamalo.es
SUMMARY:Taller de Manualidades "Marcapáginas con Abalorios"
DESCRIPTION:\n\nMÁS INFO:\n\nTodas las actividades son gratuitas.\n\nActividad para jóvenes a partir de 12 años con carné de usuario de centro.\n\nInscripciones en el Espacio Joven o mandando un correo electrónico a espacio.joven@marchamalo.com.\n\nPuedes apuntarte a partir del miércoles 8 de abril.\n\nPlazas limitadas y por orden de inscripción.\n\n 
URL:http://espaciojoven.marchamalo.es/event/taller-de-manualidades-marcapaginas-con-abalorios/
CATEGORIES:EVENTOS
END:VEVENT
BEGIN:VEVENT
DTSTART;TZID=UTC+0:20260425T053000
DTEND;TZID=UTC+0:20260425T213000
DTSTAMP:20260424T031810
CREATED:20260325T160158
LAST-MODIFIED:20260325T160220
UID:3963-1777095000-1777152600@espaciojoven.marchamalo.es
SUMMARY:Cocina "Tortitas de Chocolate"
DESCRIPTION:\n\nMÁS INFO:\n\nTodas las actividades son gratuitas.\n\nActividad para jóvenes a partir de 12 años con carné de usuario de centro.\n\nInscripciones en el Espacio Joven o mandando un correo electrónico a espacio.joven@marchamalo.com.\n\nPuedes apuntarte a partir del miércoles 8 de abril.\n\nPlazas limitadas y por orden de inscripción.
URL:http://espaciojoven.marchamalo.es/event/3963/
CATEGORIES:EVENTOS
END:VEVENT
END:VCALENDAR