BEGIN:VCALENDAR
VERSION:2.0
PRODID:-//Espacio de Creación Joven - ECPv4.2.7//NONSGML v1.0//EN
CALSCALE:GREGORIAN
METHOD:PUBLISH
X-WR-CALNAME:Espacio de Creación Joven
X-ORIGINAL-URL:http://espaciojoven.marchamalo.es
X-WR-CALDESC:Events for Espacio de Creación Joven
BEGIN:VEVENT
DTSTART;TZID=UTC+0:20260328T063000
DTEND;TZID=UTC+0:20260328T200000
DTSTAMP:20260424T121659
CREATED:20260318T160051
LAST-MODIFIED:20260318T161052
UID:3897-1774679400-1774728000@espaciojoven.marchamalo.es
SUMMARY:Semana de la Juventud "Taller el Enigma de la Escritura Japonesa"
DESCRIPTION:\n\nMÁS INFO:\n\nTodas las actividades son gratuitas.\n\nTaller para jóvenes a partir de 12 años con carné de usuario de centro.\n\nInscripciones en el Espacio Joven o mandando un correo electrónico a espacio.joven@marchamalo.com.\n\nTaller impartido por Toño Sensei.\n\nPuedes apuntarte a partir del miércoles 18 de marzo.\n\nPlazas limitadas y por orden de inscripción.\n\n 
URL:http://espaciojoven.marchamalo.es/event/semana-de-la-juventud-taller-el-enigma-de-la-escritura-japonesa/
CATEGORIES:EVENTOS
END:VEVENT
BEGIN:VEVENT
DTSTART;TZID=UTC+0:20260328T070000
DTEND;TZID=UTC+0:20260328T220000
DTSTAMP:20260424T121659
CREATED:20260325T141609
LAST-MODIFIED:20260325T141609
UID:3948-1774681200-1774735200@espaciojoven.marchamalo.es
SUMMARY:IV MARCHAFEST
DESCRIPTION:
URL:http://espaciojoven.marchamalo.es/event/iv-marchafest/
CATEGORIES:EVENTOS
END:VEVENT
BEGIN:VEVENT
DTSTART;TZID=UTC+0:20260328T100000
DTEND;TZID=UTC+0:20260328T200000
DTSTAMP:20260424T121659
CREATED:20260318T155645
LAST-MODIFIED:20260318T155818
UID:3892-1774692000-1774728000@espaciojoven.marchamalo.es
SUMMARY:Semana de la Juventud "XXII Torneo de Magic"
DESCRIPTION:\n\nMÁS INFO:\n\nTodas las actividades son gratuitas.\n\nTorneo para jóvenes a partir de 12 años.\n\nInscripciones en el Espacio Joven o mandando un correo electrónico a espacio.joven@marchamalo.com.\n\nTorneo organizado por la Asociación Juvenil Runa Blanca.\n\nEvento de mañana y tarde.\n\nInscripciones a partir del jueves 19 de marzo.\n\nPlazas limitadas y por orden de inscripción.\n\n 
URL:http://espaciojoven.marchamalo.es/event/3892/
CATEGORIES:EVENTOS
END:VEVENT
BEGIN:VEVENT
DTSTART;TZID=UTC+0:20260328T113000
DTEND;TZID=UTC+0:20260328T133000
DTSTAMP:20260424T121659
CREATED:20260318T154236
LAST-MODIFIED:20260318T163308
UID:3881-1774697400-1774704600@espaciojoven.marchamalo.es
SUMMARY:Semana de la Juventud "Taller de Cosmética Natural"
DESCRIPTION:\n\nMÁS INFO:\n\nTodas las actividades son gratuitas.\n\nTaller para jóvenes a partir de 12 años con carné de usuario de centro.\n\nInscripciones en el Espacio Joven o mandando un correo electrónico a espacio.joven@marchamalo.com.\n\nTaller impartido por Beatriz Alcázar.\n\nPuedes apuntarte a partir del miércoles 18 de marzo.\n\nPlazas limitadas y por orden de inscripción.\n\n \n       TALLER de Recetas de Cosmética Natural.\n(Cremas y ungüentos naturales para cuidar tu piel de Beatriz Alcázar)\n\nLa cosmética natural nos invita a volver a lo esencial\, a cuidar nuestra piel ese órgano vivo que respira\, siente y nos protege.\n\nCon la sabiduría sencilla de la naturaleza.\nA través de aceites vegetales nutritivos\, mantecas que envuelven la piel con suavidad\, cera de abeja protectora y el poder curativo de las plantas medicinales y los aceites esenciales\, podemos crear preparados que nutren\, equilibran y armonizan nuestro cuerpo.\n\nEs un gesto de cuidado consciente: una forma de reconectar con los ritmos naturales y de devolver a nuestra piel lo que la tierra generosamente nos ofrece.\n\n¿Porque la Cosmética Natural? Porque es un acto de Amor propio y respeto a la tierra.\n\nLa cosmética natural no es solo una alternativa a los productos convencionales; es un compromiso consciente con la salud de nuestra piel y el equilibrio del medio ambiente. Al elegir ingredientes puros\, orgánicos y libres de químicos sintéticos\, no solo evitamos irritaciones y alergias\, sino que permitimos que nuestra piel (el templo sagrado de nuestra alma) reciba nutrición real y profunda.\n\nLa importancia de lo natural y la proximidad En este taller\, ponemos en valor la materia prima de proximidad. Utilizar lo que nuestra tierra nos ofrece como el aceite de oliva\, la cera de abeja o las plantas medicinales de nuestra región\,  reduce la huella de carbono y apoya la sostenibilidad local. Crear tus propios remedios\, es una forma de soberanía personal: tú decides qué pones sobre  tu piel.  Nuestra práctica también  es profundamente respetuosa con el entorno. Fomentamos la reutilización y el reciclaje de envases\, especialmente de cristal\, para darles una segunda vida y reducir el uso de plásticos. Es una manera sencilla y efectiva de contribuir a un estilo de vida más equilibrado\, donde el ahorro económico se une a la satisfacción de crear algo único y respetuoso con el planeta.\n\nEs también un tiempo para ti;  Elaborar cosmética casera es\, además\, un acto de autocuidado. Es dedicarnos tiempo para cubrir nuestras necesidades\, conocer mejor nuestro cuerpo y disfrutar del placer de las texturas y los aromas naturales que armonizan mente y espíritu.\n\n \n\n"La naturaleza es perfecta y en su generosidad absoluta siempre nos ofrece la solución. Solo necesitamos volver la mirada hacia ella\, escuchar sus ritmos y confiar en que todo lo que necesitamos para sanar\, nutrirnos y brillar ya está a nuestro alcance. En cada planta\, en cada gota de aceite esencial\, reside el alma de la tierra esperando para cuidarnos."\n\n \n\n 
URL:http://espaciojoven.marchamalo.es/event/semana-de-la-juventud-taller-de-cosmetica-natural/
CATEGORIES:EVENTOS
END:VEVENT
END:VCALENDAR