BEGIN:VCALENDAR
VERSION:2.0
PRODID:-//Espacio de Creación Joven - ECPv4.2.7//NONSGML v1.0//EN
CALSCALE:GREGORIAN
METHOD:PUBLISH
X-WR-CALNAME:Espacio de Creación Joven
X-ORIGINAL-URL:http://espaciojoven.marchamalo.es
X-WR-CALDESC:Events for Espacio de Creación Joven
BEGIN:VEVENT
DTSTART;TZID=UTC+0:20260401T053000
DTEND;TZID=UTC+0:20260401T193000
DTSTAMP:20260424T103718
CREATED:20260318T163035
LAST-MODIFIED:20260331T202422
UID:3914-1775021400-1775071800@espaciojoven.marchamalo.es
SUMMARY:Semana de la Juventud "I Torneo Happy Little Dinosaurs"
DESCRIPTION:\n\nMÁS INFO:\n\nTodas las actividades son gratuitas.\n\nActividad para jóvenes a partir de 12 años con carné de usuario de centro.\n\nInscripciones en el Espacio Joven o mandando un correo electrónico a espacio.joven@marchamalo.com.\n\nPuedes apuntarte a partir del miércoles 18 de marzo.\n\nPlazas limitadas y por orden de inscripción.\n\nPremio para los ganad@r.
URL:http://espaciojoven.marchamalo.es/event/semana-de-la-juventud-i-torneo-happy-little-dinosaurs/
CATEGORIES:EVENTOS
END:VEVENT
BEGIN:VEVENT
DTSTART;TZID=UTC+0:20260401T073000
DTEND;TZID=UTC+0:20260401T213000
DTSTAMP:20260424T103718
CREATED:20260318T194603
LAST-MODIFIED:20260318T194603
UID:3923-1775028600-1775079000@espaciojoven.marchamalo.es
SUMMARY:Semana de la Juventud "Merienda en el Espacio Joven" Peña el Strohpicio
DESCRIPTION:
URL:http://espaciojoven.marchamalo.es/event/semana-de-la-juventud-merienda-en-el-espacio-joven-pena-el-strohpicio/
CATEGORIES:EVENTOS
END:VEVENT
BEGIN:VEVENT
DTSTART;TZID=UTC+0:20260401T073000
DTEND;TZID=UTC+0:20260401T213000
DTSTAMP:20260424T103718
CREATED:20260318T195723
LAST-MODIFIED:20260331T144856
UID:3926-1775028600-1775079000@espaciojoven.marchamalo.es
SUMMARY:Semana de la Juventud "Concierto de Bandas del Espacio Joven"
DESCRIPTION:\n\nDisfruta del cierre de la Semana de la Juventud con música en directo\, de la mano de algunas de las bandas locales del Espacio Joven. Conoce su música\, baila\, canta y diviértete!!!\n\nHorario: 19:30-22:00.\n\nEntrada libre.\n\nAdemás\, gozaremos de una deliciosa merienda\, preparada por la "Peña El Strohpicio"
URL:http://espaciojoven.marchamalo.es/event/semana-de-la-juventud-concierto-de-bandas-del-espacio-joven/
CATEGORIES:EVENTOS
END:VEVENT
BEGIN:VEVENT
DTSTART;TZID=UTC+0:20260401T100000
DTEND;TZID=UTC+0:20260401T140000
DTSTAMP:20260424T103718
CREATED:20260319T202653
LAST-MODIFIED:20260319T202653
UID:3939-1775037600-1775052000@espaciojoven.marchamalo.es
SUMMARY:Finales Torneo Futsal
DESCRIPTION:\n\nInscripciones en el Espacio Joven\n\nOrganiza la peña «B12»
URL:http://espaciojoven.marchamalo.es/event/finales-torneo-futsal/
CATEGORIES:EVENTOS
END:VEVENT
END:VCALENDAR